BEGIN:VCALENDAR
VERSION:2.0
PRODID:spatie/icalendar-generator
DESCRIPTION:Évènements de Maison des Associations de Pessac
X-WR-CALDESC:Évènements de Maison des Associations de Pessac
REFRESH-INTERVAL;VALUE=DURATION:PT1440M
X-PUBLISHED-TTL:PT1440M
BEGIN:VTIMEZONE
TZID:Europe/Paris
BEGIN:STANDARD
DTSTART:20231029T030000Z
TZOFFSETFROM:+0200
TZOFFSETTO:+0100
END:STANDARD
BEGIN:DAYLIGHT
DTSTART:20240331T020000Z
TZOFFSETFROM:+0100
TZOFFSETTO:+0200
END:DAYLIGHT
BEGIN:STANDARD
DTSTART:20241027T030000Z
TZOFFSETFROM:+0200
TZOFFSETTO:+0100
END:STANDARD
END:VTIMEZONE
BEGIN:VTIMEZONE
TZID:UTC
BEGIN:STANDARD
DTSTART:20250730T025249Z
TZOFFSETFROM:+0000
TZOFFSETTO:+0000
END:STANDARD
END:VTIMEZONE
BEGIN:VEVENT
UID:30-30
DTSTAMP:20260426T025249Z
SUMMARY:L’INTELLIGENCE ARTIFICIELLE
LOCATION:Villa Clément V  47 AV Eugène et Marc Dulout   Pessac  33600
ORGANIZER;CN=admin:MAILTO:d.bargiacchi@outlook.fr
DTSTART;TZID=Europe/Paris:20240615T143000
DTEND;TZID=Europe/Paris:20240615T173000
X-ALT-DESC;FMTTYPE=TEXT/HTML:         Découvrir l’intelligence a
 rtificielle            Peut-elle être au service des associatio
 ns ???            On vous propose d’apprendre à s’en servi
 r              MAIS AUSSI          -        Ma
 nipuler récupérer extraire et modifier un PDF -        Trouver su
 r le net des solutions pratiques -        Savoir interroger google 
 -        Toutes les questions que vous vous posez.  INTERVENANT :
  PATRICK VANEY VILLA CLEMENT…
CATEGORIES:Formation
URL;VALUE=URI:https://www.mda-pessac.fr/planning/?mc_id=30&#038;vcal=30
METHOD:PUBLISH
END:VEVENT
END:VCALENDAR