BEGIN:VCALENDAR
VERSION:2.0
PRODID:spatie/icalendar-generator
DESCRIPTION:Évènements de Maison des Associations de Pessac
X-WR-CALDESC:Évènements de Maison des Associations de Pessac
REFRESH-INTERVAL;VALUE=DURATION:PT1440M
X-PUBLISHED-TTL:PT1440M
BEGIN:VTIMEZONE
TZID:Europe/Paris
BEGIN:STANDARD
DTSTART:20251026T030000Z
TZOFFSETFROM:+0200
TZOFFSETTO:+0100
END:STANDARD
BEGIN:DAYLIGHT
DTSTART:20260329T020000Z
TZOFFSETFROM:+0100
TZOFFSETTO:+0200
END:DAYLIGHT
BEGIN:STANDARD
DTSTART:20261025T030000Z
TZOFFSETFROM:+0200
TZOFFSETTO:+0100
END:STANDARD
END:VTIMEZONE
BEGIN:VTIMEZONE
TZID:UTC
BEGIN:STANDARD
DTSTART:20250729T035144Z
TZOFFSETFROM:+0000
TZOFFSETTO:+0000
END:STANDARD
END:VTIMEZONE
BEGIN:VEVENT
UID:88-71
DTSTAMP:20260425T035144Z
SUMMARY:JUIN CULTURE ET PATRIMOINE
LOCATION:Salle du Bourg 27 Rue Roger Cohé  Pessac  33600
ORGANIZER;CN=admin:MAILTO:d.bargiacchi@outlook.fr
DTSTART;TZID=Europe/Paris:20260608T183000
DTEND;TZID=Europe/Paris:20260608T210000
X-ALT-DESC;FMTTYPE=TEXT/HTML:JUIN CULTURE ET PATRIMOINE Salle du Bourg - 18
 h30 – 21h00 Poursuite de la mise en place du projet commun. 7 associatio
 ns participent à ce projet. Un travail d’équipe entamé depuis plus d
 ’un an.
CATEGORIES:ASSEMBLEE GENERALE
URL;VALUE=URI:https://www.mda-pessac.fr/planning/?mc_id=88&#038;vcal=88
METHOD:PUBLISH
END:VEVENT
END:VCALENDAR